BEGIN:VCALENDAR
VERSION:2.0
PRODID:-//ChamberMaster//Event Calendar 2.0//EN
METHOD:PUBLISH
X-PUBLISHED-TTL:P3D
REFRESH-INTERVAL:P3D
CALSCALE:GREGORIAN
BEGIN:VEVENT
DTSTART:20211022T010000Z
DTEND:20211022T023000Z
X-MICROSOFT-CDO-ALLDAYEVENT:FALSE
SUMMARY:25th Annual Business Excellence Awards
DESCRIPTION:Experience at Home packages have been sold out! If you would like to purchase a viewing fee\, please register.\n\n\n\nYou are invited to join the Greater Langley Chamber of Commerce for our 25th Business Excellence Awards hosted by Karen Daniels & Clay St. Thomas of JRFM. This year\, we celebrate 25 years of business excellence in the Langley community. During the event\, guests will enjoy musical entertainment from Ryan McAllister\, a special feature video\, and an exciting awards ceremony all from the comfort of your own home with your "Experience at Home" package. \n\n\n\nExperience at Home Package: One person charcuterie box prepared by Blank Canvas Catering\, a delicious dessert jar\, bottle of wine from Glass House Winery\, a beautiful scented candle and event program. \n\n\n\nCharcuterie Box: fennel salami\, chorizo lomo\, prosciutto\, mustard\, pickled vegetables\, artichokes\, aged white cheddar\, double cream brie\, manchego\, baguette\, crackers\, fruits. (Additional option of vegetarian\, gluten free).\n\nThe Greater Langley Chamber of Commerce is pleased to present the 2021 Business Excellence Awards recognizing businesses in six different categories. Together\, let's celebrate all the good that has happened this year between people and businesses in our community. \n\n\n	George Preston Memorial Business Person of the Year\n	Employer of the Year\n	Small Business of the Year\n	Medium Business of the Year\n	Large Business of the Year\n	Community Impact (Non-Profit)\n\n\nDon't forget to use #GLCCBizAwards on social media!\n\n\n\nFinal day to purchase tickets is Friday\, October 1st\, 2021.\n\n\n\nGreater Langley Chamber of Commerce Cancellation Policy: Event payment is due upon registration. No cancellations\, refunds or credits after 12:00 pm on Monday\, October 4\, 2021.
X-ALT-DESC;FMTTYPE=text/html:<p><span style="font-size:16px\;"><span style="font-family:arial\;"><em><strong>Experience at Home packages have been sold out! If you would like to purchase a viewing fee\, please register.</strong></em><br />\n<br />\nYou are invited to join the Greater Langley Chamber of Commerce for our 25th&nbsp\;Business Excellence Awards hosted by&nbsp\;Karen Daniels &amp\;&nbsp\;Clay St. Thomas of <a href="https://www.jrcountry.ca/">JRFM</a>. This year\, we celebrate 25 years of business excellence in the Langley community. During the event\,&nbsp\;guests will enjoy musical entertainment from <a href="https://www.ryanmcallister.com/">Ryan McAllister</a><a href="https://www.facebook.com/Exit58/">\,</a> a special feature video\, and an exciting awards ceremony all from the comfort of your own home with your &quot\;Experience at Home&quot\; package.&nbsp\;<br />\n<br />\n<em><strong>Experience at Home Package:</strong></em>&nbsp\;One person charcuterie box prepared by <a href="https://www.blankcanvascatering.com/">Blank Canvas Catering</a>\, a delicious dessert jar\, bottle of wine from <a href="https://www.glasshouseestatewinery.com/">Glass House Winery</a>\, a beautiful scented candle and event program.&nbsp\;<br />\n<br />\n<em><strong>Charcuterie Box: </strong>fennel salami\, chorizo lomo\, prosciutto\, mustard\, pickled vegetables\, artichokes\, aged white cheddar\, double cream brie\, manchego\, baguette\, crackers\, fruits. (Additional option of vegetarian\, gluten free).</em></span></span></p>\n\n<div><font face="arial"><span style="font-size: 16px\;">The Greater Langley Chamber of Commerce is pleased to present the 2021&nbsp\;Business Excellence Awards recognizing businesses in six different categories. Together\, let&#39\;s celebrate all the good that has happened this year between people and businesses in our community.&nbsp\;</span></font></div>\n\n<ul>\n	<li><font face="arial"><span style="font-size: 16px\;">George Preston Memorial Business Person of the Year</span></font></li>\n	<li><font face="arial"><span style="font-size: 16px\;">Employer of the Year</span></font></li>\n	<li><font face="arial"><span style="font-size: 16px\;">Small Business of the Year</span></font></li>\n	<li><font face="arial"><span style="font-size: 16px\;">Medium Business of the Year</span></font></li>\n	<li><font face="arial"><span style="font-size: 16px\;">Large Business of the Year</span></font></li>\n	<li><font face="arial"><span style="font-size: 16px\;">Community Impact (Non-Profit)</span></font></li>\n</ul>\n\n<div style="clear: both\;"><span style="font-size:16px\;"><span style="font-family:arial\;">Don&#39\;t forget to use <strong>#GLCCBizAwards</strong> on social media!</span></span><br />\n<br />\n<span style="font-size:14px\;"><span style="color:#000000\;"><strong>Final day to purchase tickets is Friday\, October 1st\, 2021.</strong></span></span></div>\n\n<div style="clear: both\;"><br />\n<span style="font-size:12px\;"><span style="font-family:arial\;"><em style="color: rgb(51\, 51\, 51)\; background-color: rgb(255\, 255\, 255)\; font-size: 11px\; font-family: arial\;"><span style="color: red\;">Greater Langley Chamber of Commerce Cancellation Policy: Event payment is due upon registration. No cancellations\, refunds or credits after 12:00 pm on Monday\, October 4\, 2021.</span></em></span></span></div>\n
LOCATION:Virtual Event
UID:e.1292.7124
SEQUENCE:3
DTSTAMP:20260422T172915Z
URL:https://business.langleychamber.com/events/details/25th-annual-business-excellence-awards-7124
END:VEVENT

END:VCALENDAR
