BEGIN:VCALENDAR
VERSION:2.0
PRODID:-//ChamberMaster//Event Calendar 2.0//EN
METHOD:PUBLISH
X-PUBLISHED-TTL:P3D
REFRESH-INTERVAL:P3D
CALSCALE:GREGORIAN
BEGIN:VEVENT
DTSTART;VALUE=DATE:20220903
DTEND;VALUE=DATE:20220904
TRANSP:TRANSPARENT
X-MICROSOFT-CDO-ALLDAYEVENT:TRUE
SUMMARY:Fall Fest and Open House
DESCRIPTION:Join the Langley Arts Council in our first Fall Fest and Open House at the Aldergrove Kinsmen Community Center! This day-long event is FREE to attend and will take place at the Aldergrove Kinsmen Community Center (located at 26770 29th Ave\, Aldergrove BC\, V4W 3B8). Event Schedule: 11:00 - 12:00 AM - Edward the Magacian This is a family-friendly performance for all ages! 12:30 - 1:30 PM - Music and Movement with Patricia Dunphy This is a family-friendly performance for all ages! 5:30 - 8:30 PM - Musical Performances by Ava Hamill\, and KatMoon! Be sure to register for FREE tickets for each of the events at the link below. As there is limited seating for each of these events. Get your FREE tickets at https://www.tickettailor.com/events/langleyartscouncil/741913
X-ALT-DESC;FMTTYPE=text/html:Join the Langley Arts Council in our first Fall Fest and Open House at the Aldergrove Kinsmen Community Center! This day-long event is FREE to attend and will take place at the Aldergrove Kinsmen Community Center (located at<tcxspan tcxhref="https://glcc.3cx.ca/webclient/#/call?phone=26770" title="Call  26770  with 3CX Web Client"> 26770 </tcxspan>29th Ave\, Aldergrove BC\, V4W 3B8). Event Schedule: 11:00 - 12:00 AM - Edward the Magacian This is a family-friendly performance for all ages! 12:30 - 1:30 PM - Music and Movement with Patricia Dunphy This is a family-friendly performance for all ages! 5:30 - 8:30 PM - Musical Performances by Ava Hamill\, and KatMoon! Be sure to register for FREE tickets for each of the events at the link below. As there is limited seating for each of these events. Get your FREE tickets at https://www.tickettailor.com/events/langleyartscouncil/741913
LOCATION:The Aldergrove Kinsmen Community Center is located at 26770 29th Ave\, Aldergrove BC V4W 3B8.
UID:e.1292.7241
SEQUENCE:3
DTSTAMP:20260421T235848Z
URL:https://business.langleychamber.com/events/details/fall-fest-and-open-house-7241
END:VEVENT

END:VCALENDAR
