BEGIN:VCALENDAR
VERSION:2.0
PRODID:-//ChamberMaster//Event Calendar 2.0//EN
METHOD:PUBLISH
X-PUBLISHED-TTL:P3D
REFRESH-INTERVAL:P3D
CALSCALE:GREGORIAN
BEGIN:VEVENT
DTSTART:20210914T010000Z
DTEND:20210914T023000Z
X-MICROSOFT-CDO-ALLDAYEVENT:FALSE
SUMMARY:Federal All Candidates Meeting - Cloverdale - Langley City Riding
DESCRIPTION:You must register to receive Zoom link. \n\n\n\nThe Greater Langley Chamber of Commerce and The Fraser Valley Real Estate Board are pleased to host this valuable opportunity for Chamber Members and Langley residents to hear from the candidates in the Cloverdale - Langley City Riding prior to the Federal Election on September 20th\, 2021. \n\n\n\nTo help ensure our members and community can hear from the local candidates\, the Greater Langley Chamber of Commerce will again be hosting All Candidates forums with candidates in each of the Langley ridings and will be sharing those discussions with you.\n\n\n\nHave a question you want asked of your candidates? Submit your question to us.
X-ALT-DESC;FMTTYPE=text/html:<br />\n<span style="color:#FF0000\;"><em><strong>You must register to receive Zoom link.&nbsp\;</strong></em></span><br />\n<br />\nThe Greater Langley Chamber of Commerce and The Fraser Valley Real Estate Board are pleased to host this valuable opportunity for Chamber Members and Langley residents to hear from the candidates in the Cloverdale - Langley City Riding prior to the Federal Election on September 20th\, 2021.&nbsp\;<br />\n<br />\nTo help ensure our members and community can hear from the local candidates\, the Greater Langley Chamber of Commerce will again be hosting All Candidates forums with candidates in each of the Langley ridings and will be sharing those discussions with you.<br />\n<br />\nHave a question you want asked of your candidates? <a href="mailto:colleen@langleychamber.com?subject=All%20Candidates%20Forum%20">Submit your question to us</a>.&nbsp\;<br />\n&nbsp\;
LOCATION:WEBINAR Zoom
UID:e.1292.7141
SEQUENCE:3
DTSTAMP:20260422T191101Z
URL:https://business.langleychamber.com/events/details/federal-all-candidates-meeting-cloverdale-langley-city-riding-7141
END:VEVENT

END:VCALENDAR
