BEGIN:VCALENDAR
VERSION:2.0
PRODID:-//ChamberMaster//Event Calendar 2.0//EN
METHOD:PUBLISH
X-PUBLISHED-TTL:P3D
REFRESH-INTERVAL:P3D
CALSCALE:GREGORIAN
BEGIN:VEVENT
DTSTART:20221001T230000Z
DTEND:20221002T010000Z
X-MICROSOFT-CDO-ALLDAYEVENT:FALSE
SUMMARY:Jam and Open Mic Night
DESCRIPTION:The Langley Arts Council and Kooben Cafe are pleased to invite you to our first Jam & Open Mic Night Series! Each night will have a 45 - 60 min opening set featuring a local established or emerging band/musician with an hour-long open mic shortly after. On October 1st\, we will be featuring local artist Daryll Klassen! There will be a signup sheet posted at the event so make sure you get your name on the list early! Bring along your musical instrument of choice to perform your new song or a crowd favourite\, or bring your latest poem or spoken word to show off\, in a warm and welcoming environment. Looking forward to seeing you all soon!
X-ALT-DESC;FMTTYPE=text/html:The Langley Arts Council and Kooben Cafe are pleased to invite you to our first Jam &amp\; Open Mic Night Series! Each night will have a 45 - 60 min opening set featuring a local established or emerging band/musician with an hour-long open mic shortly after. On October 1st\, we will be featuring local artist Daryll Klassen! There will be a signup sheet posted at the event so make sure you get your name on the list early! Bring along your musical instrument of choice to perform your new song or a crowd favourite\, or bring your latest poem or spoken word to show off\, in a warm and welcoming environment. Looking forward to seeing you all soon!
LOCATION:Kooben Cafe located at 20411 Fraser Highway Langley\, BC V3A 4G2
UID:e.1292.7235
SEQUENCE:3
DTSTAMP:20260421T222850Z
URL:https://business.langleychamber.com/events/details/jam-and-open-mic-night-10-01-2022-7235
END:VEVENT

END:VCALENDAR
