BEGIN:VCALENDAR
VERSION:2.0
PRODID:-//ChamberMaster//Event Calendar 2.0//EN
METHOD:PUBLISH
X-PUBLISHED-TTL:P3D
REFRESH-INTERVAL:P3D
CALSCALE:GREGORIAN
BEGIN:VEVENT
DTSTART:20220720T190000Z
DTEND:20220720T203000Z
X-MICROSOFT-CDO-ALLDAYEVENT:FALSE
SUMMARY:Learn How To Buy a Business in Canada!
DESCRIPTION:Learn How To Buy a Business in Canada! Register: https://thebizex.com/blog/buy-business-canada About this event: Are you thinking about buying a business? Don't know where to begin? Attend the Business Exchange Virtual Event and in 1.5 hours you will learn the ins and outs of how to buy a business in Canada. On July 20th learn from our expert panel on where to find businesses for sale\, how to get business financing\, legal and financial considerations\, benefits of using a business broker and is franchising right for you. If you are serious about getting into business\, you won't want to miss this event. Date: Wednesday\, July 20\, 2022 Time: 12:00 PM - 1:30 PM. Event Type: Virtual Event. Admission: FREE to attend. Please make sure to register to get the access pass. Reasons to attend?   Avoid costly mistakes when buying a business or franchise   Learn about the due diligence process   Free legal advice that you need before starting a business   Tips on structuring your business to reduce your taxes   Learn about the business financing options available in Canada   Benefits of using a business broker and realtor for the buying process   Where to find your next business opportunity Meet Our Speakers Pamela Labelle - Business Exchange\, CEO & President Topic: Where You can Find Businesses for Sale Armond Azoomanian   Homelife/Response Realty Inc .\, Broker Topic: Benefits of Using a Business Broker to Buy a Business Tyril Froese   MNP\, CPA\, Partner\, Professional and Private Enterprise Topic: Financials of Buying a Business Frank Robinson - Cassels Brock & Blackwell LLP\, Business Lawyer Topic: Legal Aspects of Buying a Business or Franchise Shawn Allen - Matrix Mortgage\, Principal Owner Topic: Getting Financing to Buy a Businesses Ryan Hillis - Meltwich Hospitality Group Inc\, VP of Revenue Topic: Benefits of Buying a Franchise Business These events always fill up fast so don't wait! Sign-up today: https://thebizex.com/blog/buy-business-canada The session will be delivered via Zoom and full instructions will be provided by email.
X-ALT-DESC;FMTTYPE=text/html:Learn How To Buy a Business in Canada! Register: https://thebizex.com/blog/buy-business-canada About this event: Are you thinking about buying a business? Don&rsquo\;t know where to begin? Attend the Business Exchange Virtual Event and in 1.5 hours you will learn the ins and outs of how to buy a business in Canada. On July 20th learn from our expert panel on where to find businesses for sale\, how to get business financing\, legal and financial considerations\, benefits of using a business broker and is franchising right for you. If you are serious about getting into business\, you won&rsquo\;t want to miss this event. Date: Wednesday\, July 20\, 2022 Time: 12:00 PM - 1:30 PM. Event Type: Virtual Event. Admission: FREE to attend. Please make sure to register to get the access pass. Reasons to attend? &bull\; Avoid costly mistakes when buying a business or franchise &bull\; Learn about the due diligence process &bull\; Free legal advice that you need before starting a business &bull\; Tips on structuring your business to reduce your taxes &bull\; Learn about the business financing options available in Canada &bull\; Benefits of using a business broker and realtor for the buying process &bull\; Where to find your next business opportunity Meet Our Speakers Pamela Labelle - Business Exchange\, CEO &amp\; President Topic: Where You can Find Businesses for Sale Armond Azoomanian &ndash\; Homelife/Response Realty Inc .\, Broker Topic: Benefits of Using a Business Broker to Buy a Business Tyril Froese &ndash\; MNP\, CPA\, Partner\, Professional and Private Enterprise Topic: Financials of Buying a Business Frank Robinson - Cassels Brock &amp\; Blackwell LLP\, Business Lawyer Topic: Legal Aspects of Buying a Business or Franchise Shawn Allen - Matrix Mortgage\, Principal Owner Topic: Getting Financing to Buy a Businesses Ryan Hillis - Meltwich Hospitality Group Inc\, VP of Revenue Topic: Benefits of Buying a Franchise Business These events always fill up fast so don&#39\;t wait! Sign-up today: https://thebizex.com/blog/buy-business-canada The session will be delivered via Zoom and full instructions will be provided by email.
LOCATION:online
UID:e.1292.7230
SEQUENCE:3
DTSTAMP:20260422T031156Z
URL:https://business.langleychamber.com/events/details/learn-how-to-buy-a-business-in-canada-7230
END:VEVENT

END:VCALENDAR
