BEGIN:VCALENDAR
VERSION:2.0
PRODID:-//ChamberMaster//Event Calendar 2.0//EN
METHOD:PUBLISH
X-PUBLISHED-TTL:P3D
REFRESH-INTERVAL:P3D
CALSCALE:GREGORIAN
BEGIN:VEVENT
DTSTART:20210310T200000Z
DTEND:20210310T210000Z
X-MICROSOFT-CDO-ALLDAYEVENT:FALSE
SUMMARY:Lift-Off Series: Practical HR and Employment Law Advice to Boost Your Workplace
DESCRIPTION:This FREE quarterly online 'Lift-Off Series: Practical Advice to Boost Your Workplace' is designed for all workplaces and employers who are looking to stay current on workplace laws and human resources practices. In this interactive 1-hour session\, HR expert Sofia Arisheh and employment and human rights lawyer Richard Johnson will discuss best practices for managing a remote team\, considering both the HR and legislative requirements. You will: - Review best practices of leading a virtual workforce - Discover legal considerations around remote work\, including WCB and Human Rights
X-ALT-DESC;FMTTYPE=text/html:This FREE quarterly online &#39\;Lift-Off Series: Practical Advice to Boost Your Workplace&#39\; is designed for all workplaces and employers who are looking to stay current on workplace laws and human resources practices. In this interactive 1-hour session\, HR expert Sofia Arisheh and employment and human rights lawyer Richard Johnson will discuss best practices for managing a remote team\, considering both the HR and legislative requirements. You will: - Review best practices of leading a virtual workforce - Discover legal considerations around remote work\, including WCB and Human Rights
LOCATION:Virtual Online
UID:e.1292.7101
SEQUENCE:3
DTSTAMP:20260423T044626Z
URL:https://business.langleychamber.com/events/details/lift-off-series-practical-hr-and-employment-law-advice-to-boost-your-workplace-7101
END:VEVENT

END:VCALENDAR
