BEGIN:VCALENDAR
VERSION:2.0
PRODID:-//ChamberMaster//Event Calendar 2.0//EN
METHOD:PUBLISH
X-PUBLISHED-TTL:P3D
REFRESH-INTERVAL:P3D
CALSCALE:GREGORIAN
BEGIN:VEVENT
DTSTART:20211013T003000Z
DTEND:20211013T033000Z
X-MICROSOFT-CDO-ALLDAYEVENT:FALSE
SUMMARY:October 2021 Dinner Meeting
DESCRIPTION:Please review link below before attending event\n\n\n\n           IN PERSON EVENT SAFETY\n\n               \n\nWe are pleased to invite you to our October Dinner Meeting as we celebrate Small Business Month. We are pleased to host keynote speaker\, Michael J. Weiler of KSW Lawyers\, as he discusses the rising costs and obstacles that small and mid-size enterprises (SME) are facing and offers ideas on how to keep the costs down with employees. \n\n\n\nEmployees are your greatest assets just ask the Vancouver Canucks.  But managing employees in a complicated regulatory and judicial world can impose significant unanticipated expenses on SME's not the least of which can be legal fees.  With over 40 years of advising and acting for SME's\, Mike has seen how these expenses can impair the growth of the SME. He also knows how businesses can take steps to minimize these costs.\n\n\n\nKeynote speaker\, Michael J. Weiler\, will offer some practical advice and tips on how to keep the costs of managing the employment relationship in check.  He will use anecdotal examples that will help demonstrate the pitfalls but also the solutions.\n\n \nKEY TAKEAWAYS:\n\n\n	Minimize the risks of a problem employee by honing your hiring practices.\n	Minimize the risks of a wrongful dismissal by having enforceable written employment agreements.\n	Consider the options in dealing with an employee on a medical leave to avoid a human rights complaint.\n	Learn how to comply with the Employment Standards Act.\n	Finally prepare your operation to best avoid a union organizing drive.\n\nABOUT OUR KEYNOTE:\n\n\n\nMike Weiler is senior counsel with the Employment & Labour Group at KSW Lawyers (Kane Shannon Weiler LLP). Mike works closely with Chris and specializes in labour law and helping unionized employers with Labour Relations and Union Advice. Mike has more than 40 years of experience practicing employment\, labour and human rights law\, and related areas\, including governance and shareholders rights. He represents employers\, management\, executives and other senior employees.\n\n\n\nYou can reach Mike by email at mweiler@ksw.bc.ca.\n\n\n\n\n\n             \n                                           Plated Dinner Menu\n\n\n\n                                          Artisal Rolls with Butter\n\n             Tortilla Soup - Pulled Confit Chicken\, roasted corn and black\n\n                            bean\, avocado\, crispy blue corn tortilla\n\n                                                            ~\n\n          Slow Cooked Short Rib Mole braised\, chimichurri smashed potato\,\n\n                  charred green bean and carrot salad with cotija crumble\n\n\n\n                                                          OR\n\n\n\n                Toasted Quinoa Bowl - Fajita Vegetables\, Roasted corn and\n\n                   black bean\, grilled avocado\, pico de gallo\, cotija crumble\n\n                                                            ~\n\n                                                     Churros\n\n                                    Freshly Brewed Coffee & Tea\n\n \n If you have dietary restrictions\, please email events@langleychamber.com\n\n\n\n\n\n\n\n\n\n\n\nGreater Langley Chamber of Commerce Cancellation Policy as of September 2nd\, 2021. If you are unable to attend an event for whatever reason\, we will issue a credit to your account.
X-ALT-DESC;FMTTYPE=text/html:&nbsp\;&nbsp\;&nbsp\;&nbsp\;<br />\n<br />\n<br />\n<strong><em><span style="font-size:22px\;">&nbsp\;Please review link below before attending event</span></em></strong><br />\n<br />\n<span style="font-size:22px\;"><strong><em>&nbsp\; &nbsp\; &nbsp\; &nbsp\; &nbsp\; &nbsp\;</em></strong><span style="font-size:24px\;"><u><strong><em><a href="https://chambermaster.blob.core.windows.net/userfiles/UserFiles/chambers/1292/File/2021InPersonEventsafety.pdf"><span style="color:#FF0000\;">IN PERSON EVENT SAFETY</span></a></em></strong></u></span></span><br />\n<strong><span style="font-size:20px\;"><em>&nbsp\; &nbsp\; &nbsp\; &nbsp\; &nbsp\; &nbsp\; &nbsp\; &nbsp\;</em></span></strong><br />\nWe are pleased to invite you to our October Dinner Meeting as we celebrate Small Business Month. We are pleased to host keynote speaker\, Michael J. Weiler of KSW Lawyers\, as he discusses the rising costs and obstacles that small and mid-size enterprises (<strong>SME</strong>) are facing and offers ideas on how to keep the costs down with employees.&nbsp\;<br />\n<br />\nEmployees are your greatest assets&mdash\;just ask the Vancouver Canucks.&nbsp\; But managing employees in a complicated regulatory and judicial world can impose significant unanticipated expenses on SME&rsquo\;s not the least of which can be legal fees.&nbsp\; With over 40 years of advising and acting for SME&rsquo\;s\, Mike has seen how these expenses can impair the growth of the SME. He also knows how businesses can take steps to minimize these costs.<br />\n<br />\nKeynote speaker\, Michael J. Weiler\, will offer some practical advice and tips on how to keep the costs of managing the employment relationship in check.&nbsp\; He will use anecdotal examples that will help demonstrate the pitfalls but also the solutions.<br />\n&nbsp\;\n<div><u><strong>KEY TAKEAWAYS:</strong></u></div>\n\n<ul>\n	<li>Minimize the risks of a problem employee by honing your hiring practices.</li>\n	<li>Minimize the risks of a wrongful dismissal by having enforceable written employment agreements.</li>\n	<li>Consider the options in dealing with an employee on a medical leave to avoid a human rights complaint.</li>\n	<li>Learn how to comply with the Employment Standards Act.</li>\n	<li>Finally prepare your operation to best avoid a union organizing drive.</li>\n</ul>\n<u><strong>ABOUT OUR KEYNOTE:</strong></u><br />\n<br />\nMike Weiler is senior counsel with the <a href="https://www.ksw.bc.ca/employment-law/">Employment &amp\; Labour Group</a> at <a href="https://www.ksw.bc.ca/">KSW Lawyers</a> (Kane Shannon Weiler LLP). Mike works closely with Chris and specializes in labour law and helping unionized employers with Labour Relations and Union Advice. Mike has more than 40 years of experience practicing employment\, labour and human rights law\, and related areas\, including governance and shareholders rights. He represents employers\, management\, executives and other senior employees.<br />\n<br />\nYou can reach Mike by email at <a href="mailto:mweiler@ksw.bc.ca">mweiler@ksw.bc.ca</a>.<br />\n<br />\n<br />\n&nbsp\;&nbsp\;&nbsp\;&nbsp\;&nbsp\;&nbsp\;&nbsp\;&nbsp\;&nbsp\;&nbsp\;&nbsp\;&nbsp\;&nbsp\;\n<div>&nbsp\; &nbsp\; &nbsp\; &nbsp\; &nbsp\; &nbsp\; &nbsp\; &nbsp\; &nbsp\; &nbsp\; &nbsp\; &nbsp\; &nbsp\; &nbsp\; &nbsp\; &nbsp\; &nbsp\; &nbsp\; &nbsp\; &nbsp\; &nbsp\; &nbsp\;<u><strong>Plated Dinner Menu</strong></u><br />\n<br />\n&nbsp\;&nbsp\;&nbsp\;&nbsp\;&nbsp\;&nbsp\;&nbsp\;&nbsp\;&nbsp\;&nbsp\;&nbsp\;&nbsp\;&nbsp\;&nbsp\;&nbsp\;&nbsp\;&nbsp\;&nbsp\;&nbsp\;&nbsp\;&nbsp\;&nbsp\;&nbsp\;&nbsp\;&nbsp\;&nbsp\;&nbsp\;&nbsp\;&nbsp\;&nbsp\;&nbsp\;&nbsp\;&nbsp\;&nbsp\;&nbsp\;&nbsp\;&nbsp\; &nbsp\; &nbsp\; Artisal Rolls with Butter<br />\n&nbsp\;&nbsp\;&nbsp\;&nbsp\;&nbsp\;&nbsp\;&nbsp\;&nbsp\;&nbsp\;&nbsp\;&nbsp\;&nbsp\;&nbsp\;Tortilla Soup - Pulled Confit Chicken\, roasted corn and black<br />\n&nbsp\;&nbsp\;&nbsp\;&nbsp\;&nbsp\;&nbsp\;&nbsp\;&nbsp\;&nbsp\;&nbsp\;&nbsp\;&nbsp\;&nbsp\;&nbsp\;&nbsp\;&nbsp\;&nbsp\;&nbsp\;&nbsp\;&nbsp\;&nbsp\;&nbsp\;&nbsp\;&nbsp\;&nbsp\;&nbsp\;&nbsp\;&nbsp\;bean\, avocado\, crispy blue corn tortilla<br />\n&nbsp\;&nbsp\;&nbsp\;&nbsp\;&nbsp\;&nbsp\;&nbsp\;&nbsp\;&nbsp\;&nbsp\;&nbsp\;&nbsp\;&nbsp\;&nbsp\;&nbsp\;&nbsp\;&nbsp\;&nbsp\;&nbsp\;&nbsp\;&nbsp\;&nbsp\;&nbsp\;&nbsp\;&nbsp\;&nbsp\;&nbsp\;&nbsp\;&nbsp\;&nbsp\;&nbsp\;&nbsp\;&nbsp\;&nbsp\;&nbsp\;&nbsp\;&nbsp\;&nbsp\;&nbsp\;&nbsp\;&nbsp\;&nbsp\;&nbsp\;&nbsp\;&nbsp\;&nbsp\;&nbsp\;&nbsp\;&nbsp\;&nbsp\;&nbsp\;&nbsp\;&nbsp\;&nbsp\;&nbsp\;&nbsp\;&nbsp\;&nbsp\;&nbsp\;&nbsp\;~<br />\n&nbsp\;&nbsp\;&nbsp\;&nbsp\;&nbsp\;&nbsp\;&nbsp\;&nbsp\;&nbsp\;&nbsp\;Slow Cooked Short Rib Mole braised\, chimichurri smashed potato\,<br />\n&nbsp\;&nbsp\;&nbsp\;&nbsp\;&nbsp\;&nbsp\;&nbsp\;&nbsp\;&nbsp\;&nbsp\;&nbsp\;&nbsp\;&nbsp\;&nbsp\;&nbsp\;&nbsp\;&nbsp\;&nbsp\;charred green bean and carrot salad with cotija crumble<br />\n<br />\n&nbsp\;&nbsp\;&nbsp\;&nbsp\;&nbsp\;&nbsp\;&nbsp\;&nbsp\;&nbsp\;&nbsp\;&nbsp\;&nbsp\;&nbsp\;&nbsp\;&nbsp\;&nbsp\;&nbsp\;&nbsp\;&nbsp\;&nbsp\;&nbsp\;&nbsp\;&nbsp\;&nbsp\;&nbsp\;&nbsp\;&nbsp\;&nbsp\;&nbsp\;&nbsp\;&nbsp\;&nbsp\;&nbsp\;&nbsp\;&nbsp\;&nbsp\;&nbsp\;&nbsp\;&nbsp\;&nbsp\;&nbsp\;&nbsp\;&nbsp\;&nbsp\;&nbsp\;&nbsp\;&nbsp\;&nbsp\;&nbsp\;&nbsp\;&nbsp\;&nbsp\;&nbsp\; &nbsp\; &nbsp\; OR<br />\n<br />\n&nbsp\;&nbsp\;&nbsp\;&nbsp\;&nbsp\;&nbsp\;&nbsp\;&nbsp\;&nbsp\;&nbsp\;&nbsp\;&nbsp\;&nbsp\;&nbsp\;&nbsp\;&nbsp\;Toasted Quinoa Bowl - Fajita Vegetables\, Roasted corn and<br />\n&nbsp\;&nbsp\;&nbsp\;&nbsp\;&nbsp\;&nbsp\;&nbsp\;&nbsp\;&nbsp\;&nbsp\;&nbsp\;&nbsp\;&nbsp\;&nbsp\;&nbsp\;&nbsp\;&nbsp\;&nbsp\;&nbsp\;black bean\, grilled avocado\, pico de gallo\, cotija crumble<br />\n&nbsp\; &nbsp\; &nbsp\; &nbsp\; &nbsp\; &nbsp\; &nbsp\; &nbsp\; &nbsp\; &nbsp\; &nbsp\; &nbsp\; &nbsp\; &nbsp\; &nbsp\; &nbsp\; &nbsp\; &nbsp\; &nbsp\; &nbsp\; &nbsp\; &nbsp\; &nbsp\; &nbsp\; &nbsp\; &nbsp\; &nbsp\; &nbsp\; &nbsp\; &nbsp\; ~<br />\n&nbsp\;&nbsp\;&nbsp\;&nbsp\;&nbsp\;&nbsp\;&nbsp\;&nbsp\;&nbsp\;&nbsp\;&nbsp\;&nbsp\;&nbsp\;&nbsp\;&nbsp\;&nbsp\;&nbsp\;&nbsp\;&nbsp\;&nbsp\;&nbsp\;&nbsp\;&nbsp\;&nbsp\;&nbsp\;&nbsp\;&nbsp\;&nbsp\;&nbsp\;&nbsp\;&nbsp\;&nbsp\;&nbsp\;&nbsp\;&nbsp\;&nbsp\;&nbsp\;&nbsp\;&nbsp\;&nbsp\;&nbsp\;&nbsp\;&nbsp\;&nbsp\;&nbsp\;&nbsp\;&nbsp\;&nbsp\;&nbsp\; &nbsp\; &nbsp\;Churros<br />\n&nbsp\;&nbsp\;&nbsp\;&nbsp\;&nbsp\;&nbsp\;&nbsp\;&nbsp\;&nbsp\;&nbsp\;&nbsp\;&nbsp\;&nbsp\;&nbsp\;&nbsp\;&nbsp\;&nbsp\;&nbsp\;&nbsp\;&nbsp\;&nbsp\;&nbsp\;&nbsp\;&nbsp\;&nbsp\;&nbsp\;&nbsp\;&nbsp\;&nbsp\;&nbsp\;&nbsp\;&nbsp\;&nbsp\;&nbsp\;&nbsp\;&nbsp\;Freshly Brewed Coffee &amp\; Tea</div>\n\n<div>&nbsp\;</div>\n<strong> <em>If you have dietary restrictions\, please email&nbsp\;<a href="mailto:events@langleychamber.com">events@langleychamber.com</a></em></strong><br />\n<br />\n<br />\n<br />\n<br />\n<br />\n<font color="#ff0000"><i>Greater Langley Chamber of Commerce Cancellation Policy as of September 2nd\, 2021. If you are unable to attend an event for whatever reason\, we will issue a credit to your account.&nbsp\;</i></font><br />\n&nbsp\;
LOCATION:Cascades Casino Coast Hotel & Convention Centre Ballroom (20393 Fraser Highway\, Langley)
UID:e.1292.7147
SEQUENCE:3
DTSTAMP:20260422T172705Z
URL:https://business.langleychamber.com/events/details/october-2021-dinner-meeting-7147
END:VEVENT

END:VCALENDAR
