BEGIN:VCALENDAR
VERSION:2.0
PRODID:-//ChamberMaster//Event Calendar 2.0//EN
METHOD:PUBLISH
X-PUBLISHED-TTL:P3D
REFRESH-INTERVAL:P3D
CALSCALE:GREGORIAN
BEGIN:VEVENT
DTSTART:20201016T000000Z
DTEND:20201016T013000Z
X-MICROSOFT-CDO-ALLDAYEVENT:FALSE
SUMMARY:Provincial All Candidates Meeting - Langley East Riding
DESCRIPTION:You must register to receive Zoom link. \n\n\n\nThe Greater Langley Chamber of Commerce and The Fraser Valley Real Estate Board are pleased to be able to host this valuable opportunity for Langley residents and business people to hear from the candidates in the Langley East Riding prior to the Provincial Election on October 24th\, 2020. This virtual event will be moderated by Chamber Board Member\, Frank Bucholtz. \n\n\n\nCLICK HERE TO SUBMIT QUESTIONS \n\n\n\n\n\nThis event will be broadcasted on Facebook live.\n\n\n\nPlease note: You will not be on video
X-ALT-DESC;FMTTYPE=text/html:<br />\n<span style="color:#FF0000\;"><em><strong>You must register to receive Zoom link.&nbsp\;</strong></em></span><br />\n<br />\nThe Greater Langley Chamber of Commerce and The Fraser Valley Real Estate Board are pleased to be able to host this valuable opportunity for Langley residents and business people to hear from the candidates in the Langley East Riding prior to the Provincial Election on October 24th\, 2020. This virtual event will be moderated by Chamber Board Member\, Frank Bucholtz.&nbsp\;<br />\n<br />\n<a href="http://survey.constantcontact.com/survey/a07ehc0vs8kkfpwhn5q/start">CLICK HERE TO SUBMIT QUESTIONS&nbsp\;</a><br />\n<br />\n<br />\n<em><strong>This event will be broadcasted on Facebook live.</strong></em><br />\n<br />\n<em><strong>Please note: You will not be on video&nbsp\;</strong></em>
LOCATION:WEBINAR Zoom
UID:e.1292.6951
SEQUENCE:3
DTSTAMP:20260423T150238Z
URL:https://business.langleychamber.com/events/details/provincial-all-candidates-meeting-langley-east-riding-6951
END:VEVENT

END:VCALENDAR
