BEGIN:VCALENDAR
VERSION:2.0
PRODID:-//ChamberMaster//Event Calendar 2.0//EN
METHOD:PUBLISH
X-PUBLISHED-TTL:P3D
REFRESH-INTERVAL:P3D
CALSCALE:GREGORIAN
BEGIN:VEVENT
DTSTART:20210413T230000Z
DTEND:20210414T000000Z
X-MICROSOFT-CDO-ALLDAYEVENT:FALSE
SUMMARY:Roundtable Discussion: TransLink - Where We Are Going & Where We Have Been
DESCRIPTION:You must register to receive the Zoom link.\n\n\n\nJoin us to learn how TransLink is working to keep transit safe\, boosting recovery efforts and have your questions answered.\n\n\n\nJOIN US AND LEARN:\n\n\n	  How to take transit safely\n	  Results of the Transport 2050 Transportation strategy consultation\n	  Information about TransLink's new website\, tips and tools\n	  New projects\, consultations and programs\n	  30 minute Q&A with subject matter experts on any transportation-related topics.\n\n\n\n  WHO IS THIS SESSION FOR:\n\n\n	Anyone who would like learn about TransLink initiatives and to ask questions of TransLink\n\n ABOUT OUR SPEAKER: \n\nDave Lewin is the Senior Advisor for Public Affairs\, Fay Kramer\, Senior Advisor for Government Relations and Alex Anderson\, Senior TravelSmart Specialist will also be available for the Q&A.\n\n\n\n*You must register to receive a recording*
X-ALT-DESC;FMTTYPE=text/html:<p><span style="color:#FF0000\;"><em><strong>You must register to receive the Zoom link.</strong></em></span><br />\n<br />\nJoin us to learn how TransLink is working to keep transit safe\, boosting recovery efforts and have your questions answered.<br />\n<br />\n<strong>JOIN US AND&nbsp\;LEARN:</strong></p>\n\n<ul>\n	<li>&nbsp\;&nbsp\;How to take transit safely</li>\n	<li>&nbsp\;&nbsp\;Results of the Transport 2050 Transportation strategy consultation</li>\n	<li>&nbsp\;&nbsp\;Information about TransLink&#39\;s new website\, tips and tools</li>\n	<li>&nbsp\;&nbsp\;New projects\, consultations and programs</li>\n	<li>&nbsp\;&nbsp\;30 minute Q&amp\;A with subject matter experts on any transportation-related topics.</li>\n</ul>\n<br />\n&#8203\; <strong>WHO IS THIS SESSION FOR:</strong>\n\n<ul>\n	<li>Anyone who would like learn about TransLink initiatives and to ask questions of TransLink</li>\n</ul>\n&nbsp\;<strong>ABOUT OUR SPEAKER:&nbsp\;</strong>\n\n<p><strong>Dave Lewin</strong> is the Senior Advisor for Public Affairs\, Fay Kramer\, Senior Advisor for Government Relations and Alex Anderson\, Senior TravelSmart Specialist will also be available for the Q&amp\;A.<br />\n<br />\n<em><span style="color:#FF0000\;">*You must register to receive a recording*</span></em></p>\n
LOCATION:WEBINAR Zoom Webinar
UID:e.1292.6973
SEQUENCE:3
DTSTAMP:20260423T044351Z
URL:https://business.langleychamber.com/events/details/roundtable-discussion-translink-where-we-are-going-where-we-have-been-6973
END:VEVENT

END:VCALENDAR
