BEGIN:VCALENDAR
VERSION:2.0
PRODID:-//ChamberMaster//Event Calendar 2.0//EN
METHOD:PUBLISH
X-PUBLISHED-TTL:P3D
REFRESH-INTERVAL:P3D
CALSCALE:GREGORIAN
BEGIN:VEVENT
DTSTART:20220921T003000Z
DTEND:20220921T033000Z
X-MICROSOFT-CDO-ALLDAYEVENT:FALSE
SUMMARY:September Dinner Meeting: Mental Health & the Workplace
DESCRIPTION:Join the Greater Langley Chamber of Commerce on September 20 for our September Dinner Meeting featuring our 2022 AGM\, and a special presentation and panel discussion on mental health and the workplace.  \n\nDid you know that mental health is the leading cause of disability in the workplace? \n\nFollowing the pandemic\, the impact of mental health on workers\, productivity\, and business could be profound.  Join this special event for a discussion with business and health experts on mental health in the workplace\, the role of employers\, the impact on employees\, and how our business community can work together to address this challenge. \n\nWith the persistent skills shortage and workforce challenges in our economy\, this event will help employers stay on top of this issue in their own business and help ensure they retain and support their employees. \n\nOur panelists and speakers include:\n\nGenievieve Apolinar and Bonnie Hayward\, Canadian Mental Health Association\n\nJuliane Chien\, HR West Consulting \n\nAtticus Harivel\, S+F Group Benefits\n\nJon Kirby\, Fraser Health - Moderator \n\n\n\nEvent Details:\n\nDate: Tuesday\, September 20\n\nTime:  5:30pm - 8:30pm\n\nVenue:  Cascades Casino Coast Hotel\n\nCost:  $45 per - (members)  \;  $65 per (non-members)\n\nRegister: Sign up online\, email us\, or call 604 371 3770\n\n\n\nDinner will be an open buffet --  if you have dietary restrictions\, please email events@langleychamber.com
X-ALT-DESC;FMTTYPE=text/html:<p><span style="font-family:arial\;"><em>Join the Greater Langley Chamber of Commerce on September 20 for our&nbsp\;September Dinner Meeting featuring our 2022 AGM\, and a special presentation and panel discussion on mental health and the workplace.&nbsp\;&nbsp\;</em></span></p>\n\n<p><span style="font-family:arial\;">Did you know that mental health is the leading cause of disability in the workplace?&nbsp\;</span></p>\n\n<p><span style="font-family:arial\;">Following the pandemic\, the impact of mental health on workers\, productivity\, and business could be profound.&nbsp\; Join this special event for a discussion with business and health experts on mental health in the workplace\, the role of employers\, the impact on employees\, and how our business community can work together to address this challenge.&nbsp\;</span></p>\n\n<p><span style="font-family:arial\;">With the persistent skills shortage and workforce challenges in our economy\, this event will help employers stay on top of this issue in their own business and help ensure they retain and support their employees.&nbsp\;</span></p>\n\n<p><font face="arial">Our panelists and speakers include:</font></p>\n\n<p><em><span style="color:#212121\;">Genievieve Apolinar and Bonnie Hayward\,&nbsp\;Canadian Mental Health Association</span><br />\nJuliane Chien\, HR West Consulting&nbsp\;<br />\nAtticus Harivel\, S+F Group Benefits<br />\nJon Kirby\, Fraser Health - Moderator&nbsp\;</em><br />\n<br />\n<span style="font-size:16px\;"><span style="font-family:arial\;"><u><strong>Event Details:</strong></u><br />\n<strong>Date</strong>: Tuesday\, September 20<br />\n<strong>Time</strong>:&nbsp\; 5:30pm - 8:30pm<br />\n<strong>Venue</strong>:&nbsp\; Cascades Casino Coast Hotel<br />\n<strong>Cost</strong>:&nbsp\; $45&nbsp\;per - (members)&nbsp\; \;&nbsp\; $65&nbsp\;per (non-members)<br />\n<strong>Register</strong>: <a href="https://langleychamber.chambermaster.com/eventregistration/register/7233">Sign up online</a>\, <a href="mailto:info@langleychamber.com?subject=September%20Dinner%20Meeting">email us</a>\, or call</span></span><tcxspan tcxhref="https://glcc.3cx.ca/webclient/#/call?phone=6043713770" title="Call  604 371 3770 with 3CX Web Client"><span style="font-size:16px\;"><span style="font-family:arial\;"> 604 371 3770</span></span></tcxspan><br />\n<br />\n<span style="font-size:16px\;"><span style="font-family:arial\;"><em>Dinner will be an open buffet --&nbsp\; if you have dietary restrictions\, please email&nbsp\;<a href="mailto:events@langleychamber.com">events@langleychamber.com</a></em></span></span></p>\n\n<p>&nbsp\;</p>\n\n<p><br />\n<br />\n&nbsp\;</p>\n
LOCATION:Cascades Casino Coast Hotel & Convention Centre Ballroom (20393 Fraser Highway\, Langley)
UID:e.1292.7233
SEQUENCE:3
DTSTAMP:20260422T000422Z
URL:https://business.langleychamber.com/events/details/september-dinner-meeting-mental-health-the-workplace-7233
END:VEVENT

END:VCALENDAR
