BEGIN:VCALENDAR
VERSION:2.0
PRODID:-//ChamberMaster//Event Calendar 2.0//EN
METHOD:PUBLISH
X-PUBLISHED-TTL:P3D
REFRESH-INTERVAL:P3D
CALSCALE:GREGORIAN
BEGIN:VEVENT
DTSTART:20211106T030000Z
DTEND:20211107T050000Z
X-MICROSOFT-CDO-ALLDAYEVENT:FALSE
SUMMARY:The Brothers GRIMM Spectaculathon
DESCRIPTION:PLAY Society and CURiOUS and Company are proud to finally present live theatre again in Langley. \n\n\n\nThe show is called The Brothers GRIMM Spectaculathon\, it's a high energy\, fast paced comedy where five actors attempt to perform all 209 fairy tales written by the Grimm Brothers. It's fun\, it's silly and it's really entertaining. The show is recommended for anyone 12 and older. \n\n\n\nThis one act show is being held at the Chief Sepass Theatre at Langley Fine Arts for only 3 performances.
X-ALT-DESC;FMTTYPE=text/html:PLAY Society and CURiOUS and Company are proud to finally present live theatre again in Langley.&nbsp\;<br />\n<br />\nThe show is called The Brothers GRIMM Spectaculathon\, it&#39\;s a high energy\, fast paced comedy where five actors attempt to perform all 209 fairy tales written by the Grimm Brothers. It&#39\;s fun\, it&#39\;s silly and it&#39\;s really entertaining. The show is recommended for anyone 12 and older.&nbsp\;<br />\n<br />\nThis one act show is being held at the Chief Sepass Theatre at Langley Fine Arts for only 3 performances.&nbsp\;
LOCATION:Chief Sepass Theatre at Langley Fine Arts
UID:e.1292.7157
SEQUENCE:3
DTSTAMP:20260422T173038Z
URL:https://business.langleychamber.com/events/details/the-brothers-grimm-spectaculathon-7157
END:VEVENT

END:VCALENDAR
