BEGIN:VCALENDAR
VERSION:2.0
PRODID:-//ChamberMaster//Event Calendar 2.0//EN
METHOD:PUBLISH
X-PUBLISHED-TTL:P3D
REFRESH-INTERVAL:P3D
CALSCALE:GREGORIAN
BEGIN:VEVENT
DTSTART:20220513T180000Z
DTEND:20220513T190000Z
X-MICROSOFT-CDO-ALLDAYEVENT:FALSE
SUMMARY:Virtual Coffee & Conversation with MLA Megan Dykeman
DESCRIPTION:You must register to receive the Zoom link. \n\n\n\nPour yourself a cup of coffee and join Langley East MLA Megan Dykeman for a virtual discussion on the current Langley business climate.
X-ALT-DESC;FMTTYPE=text/html:<br />\n<span style="color:#FF0000\;"><strong><em>You must register to receive the Zoom link.&nbsp\;</em></strong></span><br />\n<br />\nPour yourself a cup of coffee and join Langley East MLA Megan Dykeman for a virtual discussion on the current Langley business climate.&nbsp\;
LOCATION:WEBINAR Zoom Webinar
UID:e.1292.7196
SEQUENCE:3
DTSTAMP:20260422T054706Z
URL:https://business.langleychamber.com/events/details/virtual-coffee-conversation-with-mla-megan-dykeman-04-21-2022-7196
END:VEVENT

END:VCALENDAR
