BEGIN:VCALENDAR
VERSION:2.0
PRODID:-//ChamberMaster//Event Calendar 2.0//EN
METHOD:PUBLISH
X-PUBLISHED-TTL:P3D
REFRESH-INTERVAL:P3D
CALSCALE:GREGORIAN
BEGIN:VEVENT
DTSTART:20210408T170000Z
DTEND:20210408T180000Z
X-MICROSOFT-CDO-ALLDAYEVENT:FALSE
SUMMARY:Virtual Coffee & Conversation with MLA Megan Dykeman
DESCRIPTION:You must register to receive the Zoom link\n\n\n\nPour yourself a cup of coffee and join MLA Megan Dykeman\, for a virtual discussion on the current Langley business climate.
X-ALT-DESC;FMTTYPE=text/html:<br />\n<span style="color:#FF0000\;"><strong><em>You must register to receive the Zoom link</em></strong></span><br />\n<br />\nPour yourself a cup of coffee and join MLA Megan Dykeman\, for a virtual discussion on the current Langley business climate.&nbsp\;<br />\n<br />\n&nbsp\;
LOCATION:WEBINAR Zoom Webinar
UID:e.1292.7110
SEQUENCE:3
DTSTAMP:20260423T044436Z
URL:https://business.langleychamber.com/events/details/virtual-coffee-conversation-with-mla-megan-dykeman-7110
END:VEVENT

END:VCALENDAR
