BEGIN:VCALENDAR
VERSION:2.0
PRODID:-//ChamberMaster//Event Calendar 2.0//EN
METHOD:PUBLISH
X-PUBLISHED-TTL:P3D
REFRESH-INTERVAL:P3D
CALSCALE:GREGORIAN
BEGIN:VEVENT
DTSTART:20210824T180000Z
DTEND:20210824T190000Z
X-MICROSOFT-CDO-ALLDAYEVENT:FALSE
SUMMARY:Virtual Town Hall - Transitioning from COVID-19 to Communicable Disease Prevention in the Workplace
DESCRIPTION:You must register to receive the Zoom link\n\n\n\nBeginning with Step 3 of the provincial government's BC's Restart plan\, employers will no longer be required to maintain a COVID-19 Safety Plan\, and will instead transition to communicable disease prevention. Chris Back\, Director of OHS Consultation and Education Services\, discusses the fundamental components of communicable disease prevention (CDP) and shares information and resources to support employers in developing their CDP plans.\n\n\n\nPlease note that this is a Member Only event.\n\n\n\nAbout Our Speaker\n\n\n\nChris Back is the Director of OHS Consultation & Education Services at WorkSafeBC. Consultation & Education Services serves the workers and employers of BC by positively influencing health & safety behaviours and disability management practices through partnerships\, consultation\, and outreach. Chris has been with WorkSafeBC for six years. Before moving into the Director role\, Chris managed the manufacturing & retail portfolio as well as the construction portfolio in Consultation & Education Services. Prior to WorkSafeBC\, he held various leadership positions in health and safety and disability management\, primarily in the healthcare industry. Chris is a Canadian Certified Professional Ergonomist and holds an MBA from Royal Roads.\n\n\n\n\n\nYou must register to receive recording.
X-ALT-DESC;FMTTYPE=text/html:<strong><span style="color:#FF0000\;"><em>You must register to receive the Zoom link</em></span></strong><br />\n<br />\nBeginning with Step 3 of the provincial government&#39\;s BC&#39\;s Restart plan\, employers will no longer be required to maintain a COVID-19 Safety Plan\, and will instead transition to communicable disease prevention. <strong>Chris Back</strong>\, Director of OHS Consultation and Education Services\, discusses the fundamental components of communicable disease prevention (CDP) and shares information and resources to support employers in developing their CDP plans.<br />\n<br />\n<em><strong>Please note that this is a Member Only event.</strong></em><br />\n<br />\n<strong><u>About Our Speaker</u></strong><br />\n<br />\nChris Back is the Director of OHS Consultation &amp\; Education Services at WorkSafeBC. Consultation &amp\; Education Services serves the workers and employers of BC by positively influencing health &amp\; safety behaviours and disability management practices through partnerships\, consultation\, and outreach. Chris has been with WorkSafeBC for six years. Before moving into the Director role\, Chris managed the manufacturing &amp\; retail portfolio as well as the construction portfolio in Consultation &amp\; Education Services. Prior to WorkSafeBC\, he held various leadership positions in health and safety and disability management\, primarily in the healthcare industry. Chris is a Canadian Certified Professional Ergonomist and holds an MBA from Royal Roads.<br />\n<br />\n<br />\n<span style="color:#FF0000\;"><em>You must register to receive recording.</em></span>
LOCATION:WEBINAR Via Zoom
UID:e.1292.7131
SEQUENCE:3
DTSTAMP:20260422T220830Z
URL:https://business.langleychamber.com/events/details/virtual-town-hall-transitioning-from-covid-19-to-communicable-disease-prevention-in-the-workplace-7131
END:VEVENT

END:VCALENDAR
