BEGIN:VCALENDAR
VERSION:2.0
PRODID:-//ChamberMaster//Event Calendar 2.0//EN
METHOD:PUBLISH
X-PUBLISHED-TTL:P3D
REFRESH-INTERVAL:P3D
CALSCALE:GREGORIAN
BEGIN:VEVENT
DTSTART:20200709T223000Z
DTEND:20200709T233000Z
X-MICROSOFT-CDO-ALLDAYEVENT:FALSE
SUMMARY:WEBINAR Canadian Government Benefits For You
DESCRIPTION:The Greater Langley Chamber of Commerce is pleased to offer a webinar in partnership with the CRA Liaison Officer to cover the following topics - Canada Emergency Response Benefit (CERB)\, Canada Emergency Student Benefit (CESB)\, and the Canada Emergency Wage Subsidy (CEWS). This session will provide an overview of the benefits introduced by the Canadian Government to help Canadian individuals and businesses facing hardship as a result of the global COVID-19 pandemic. \n\n\n\nCLICK HERE TO REGISTER \n\n\n\nABOUT OUR SPEAKER:\n\nDonavin Robinson began his career with the Canada Revenue Agency in May 2007. During his 13 years with the CRA he has worked in the T1 call site\, CPP/EI Rulings\, and the Business Returns Division. \n\n\n\nDonavin has been working an an Outreach Officer for the Pacific Region since August 2018. As an Outreach Officer\, he provides information and resources on taxes\, tax filing\, benefits and credits\, and digital services to assist Indigenous Peoples\, Seniors\, Persons with Disabilities\, Youth and lower income Canadians receive the benefits and credits they are entitled to.
X-ALT-DESC;FMTTYPE=text/html:The Greater Langley Chamber of Commerce is pleased to offer a webinar in partnership with the CRA Liaison Officer to cover the following topics - <strong>Canada Emergency Response Benefit (CERB)</strong>\,<strong> Canada Emergency Student Benefit (CESB)\, and the Canada Emergency Wage Subsidy (CEWS).</strong> This session will provide an overview of the benefits introduced by the Canadian Government to help Canadian individuals and businesses facing hardship as a result of the global COVID-19 pandemic.&nbsp\;<br />\n<br />\n<a href="https://gts-ee.webex.com/mw3300/mywebex/default.do?nomenu=true&amp\;siteurl=gts-ee&amp\;service=6&amp\;rnd=0.8238334736164741&amp\;main_url=https%3A%2F%2Fgts-ee.webex.com%2Fec3300%2Feventcenter%2Fevent%2FeventAction.do%3FtheAction%3Ddetail%26%26%26EMK%3D4832534b000000048334cf493a284a87b513bc5b05123ef35bdd1e06f2f039ed877895ee53623ddb%26siteurl%3Dgts-ee%26confViewID%3D164515530979429034%26encryptTicket%3DSDJTSwAAAAQZQ7avfLkL7iApQ8t-wQksjShjuVKokEqw0BI2HB1uKw2%26">CLICK HERE TO REGISTER&nbsp\;</a><br />\n<br />\n<strong><u>ABOUT OUR SPEAKER:</u></strong><br />\nDonavin Robinson began his career with the Canada Revenue Agency in May 2007. During his 13 years with the CRA he has worked in the T1 call site\, CPP/EI Rulings\, and the Business Returns Division.&nbsp\;<br />\n<br />\nDonavin has been working an an Outreach Officer for the Pacific Region since August 2018. As an Outreach Officer\, he provides information and resources on taxes\, tax filing\, benefits and credits\, and digital services to assist Indigenous Peoples\, Seniors\, Persons with Disabilities\, Youth and lower income Canadians receive the benefits and credits they are entitled to.&nbsp\;<br />\n&nbsp\;
LOCATION:WEBINAR
UID:e.1292.6871
SEQUENCE:3
DTSTAMP:20260423T194015Z
URL:https://business.langleychamber.com/events/details/webinar-canadian-government-benefits-for-you-6871
END:VEVENT

END:VCALENDAR
