BEGIN:VCALENDAR
VERSION:2.0
PRODID:-//ChamberMaster//Event Calendar 2.0//EN
METHOD:PUBLISH
X-PUBLISHED-TTL:P3D
REFRESH-INTERVAL:P3D
CALSCALE:GREGORIAN
BEGIN:VEVENT
DTSTART:20210211T233000Z
DTEND:20210212T003000Z
X-MICROSOFT-CDO-ALLDAYEVENT:FALSE
SUMMARY:WEBINAR Covid-19 Vaccinations and the Workplace
DESCRIPTION:You must register to receive the Zoom link.\n\n\n\nEmployment & Labour Lawyer Chris Drinovz at KSW Lawyers will be sharing his thoughts on the complex topic of Covid-19 Vaccines and the Workplace. With the vaccinations progressing\, employer clients are needing advice on how to address them at the workplace\, and especially employees who refuse to take them\, and creating and implementing vaccine policies. \nJOIN US AND LEARN:\n\n\n	Considerations\n	Refusals & Human Rights\n	Privacy\n	Covid-19 Vaccine Policy\n	Recommendations\; and \n	Takeaways\n\n\n\n  WHO IS THIS SESSION FOR:\n\n\n	Business owners\, HR professionals\, managers\, directors\, health & safety officers\, privacy officers\, and other business professionals responsible for the Human Resource (HR) function within an organization including developing and implementing employment contracts and/or workplace policies\n\n\nABOUT OUR SPEAKER: \n\n\n\nChris Drinovz is an experienced employment and labour lawyer in Abbotsford\, Langley\, Surrey & South Surrey and Head of the Employment & Labour Group at KSW Lawyers (Kane Shannon Weiler LLP). Chris has been assisting local businesses with workplace issues since 2010. His expertise covers all facets of the workplace including wrongful dismissal\, employment contracts\, workplace policies\, and WorkSafeBC matters\, including occupational health & safety. Chris is on the Executive of the Employment Law Section of the Canadian Bar Association BC\, and a Director for Surrey Cares and Greater Langley Chamber of Commerce.
X-ALT-DESC;FMTTYPE=text/html:<p><span style="color:#FF0000\;"><em><strong>You must register to receive the Zoom link.</strong></em></span><br />\n<br />\nEmployment &amp\; Labour Lawyer Chris Drinovz at KSW Lawyers will be sharing his thoughts on the complex topic of Covid-19 Vaccines and the Workplace. With the vaccinations progressing\, employer clients are needing advice on how to address them at the workplace\, and especially employees who refuse to take them\, and creating and implementing vaccine policies.&nbsp\;</p>\n<strong>JOIN US AND&nbsp\;LEARN:</strong>\n\n<ul>\n	<li>Considerations</li>\n	<li>Refusals &amp\; Human Rights</li>\n	<li>Privacy</li>\n	<li>Covid-19 Vaccine Policy</li>\n	<li>Recommendations\; and&nbsp\;</li>\n	<li>Takeaways</li>\n</ul>\n<br />\n&#8203\; <strong>WHO IS THIS SESSION FOR:</strong>\n\n<ul>\n	<li>Business owners\, HR professionals\, managers\, directors\, health &amp\; safety officers\, privacy officers\, and other business professionals responsible for the Human Resource (HR) function within an organization including developing and implementing employment contracts and/or workplace policies</li>\n</ul>\n\n<p><strong>ABOUT OUR SPEAKER:&nbsp\;</strong><br />\n<br />\n<strong>Chris Drinovz</strong> is an experienced employment and labour lawyer in Abbotsford\, Langley\, Surrey &amp\; South Surrey and Head of the Employment &amp\; Labour Group at KSW Lawyers (Kane Shannon Weiler LLP). Chris has been assisting local businesses with workplace issues since 2010. His expertise covers all facets of the workplace including wrongful dismissal\, employment contracts\, workplace policies\, and WorkSafeBC matters\, including occupational health &amp\; safety. Chris is on the Executive of the Employment Law Section of the Canadian Bar Association BC\, and a Director for Surrey Cares and Greater Langley Chamber of Commerce.</p>\n
LOCATION:WEBINAR Zoom Webinar
UID:e.1292.6980
SEQUENCE:3
DTSTAMP:20260423T080225Z
URL:https://business.langleychamber.com/events/details/webinar-covid-19-vaccinations-and-the-workplace-6980
END:VEVENT

END:VCALENDAR
