BEGIN:VCALENDAR
VERSION:2.0
PRODID:-//ChamberMaster//Event Calendar 2.0//EN
METHOD:PUBLISH
X-PUBLISHED-TTL:P3D
REFRESH-INTERVAL:P3D
CALSCALE:GREGORIAN
BEGIN:VEVENT
DTSTART:20211026T220000Z
DTEND:20211026T230000Z
X-MICROSOFT-CDO-ALLDAYEVENT:FALSE
SUMMARY:WEBINAR: Employee Engagement: Building an Actionable Framework
DESCRIPTION:You must register to receive the Zoom link.\n\nRolling out an employee engagement survey is not easy. It requires an incredible amount of preparation and project planning.  While employers mean well when opting to solicit feedback from their employees via an engagement survey\, they often miss the mark. We have to remember that addressing employee engagement is not an overnight fix but rather a journey. It's imperative that engagement assessments and solutioning is done right. If not\, the ramifications can be detrimental\, most notably eroding trust and further negatively impacting engagement. Sofia Arisheh will walk you through the importance of employee engagement and the key components in building a framework resulting in actionable steps to successfully roll out engagement initiatives. \n\n \n\nJOIN US AND LEARN:\n\n\n	Define employee engagement\n	Recognize the importance of employee engagement in the workplace\n	Understand the key steps in end-to-end employee engagement initiatives\n	\n	\n	Identify best practices to action engagement initiatives and build long-term traction\n\n	 \n	\n	\n\n\nABOUT OUR SPEAKER: \n\n\n\nSofia Arisheh is the Principal and Lead Consultant of Upskill Consulting\, a Human Resources (HR) consulting firm offering tailored HR support\, services and solutions to the Fraser Valley and Greater Vancouver regions. She is a senior Human Resource professional\, strategist\, leader\, advocate and educator.  With an in-depth understanding of how to help companies bridge their HR strategy with their business strategy\, her mission is to help businesses think\, act and operate in a people-first culture. \n\n\n\nSofia has 15+ years' experience in Human Resources\, partnering with small\, mid-sized and multi-national companies. She specializes in provincially and federally regulated companies\, in a wide range of industries including education\, engineering\, public practice accounting\, manufacturing\, law and telecommunications. She offers end-to-end HR support with some of her HR services and expertise including training\, performance management\, employee engagement\, change management\, strategic planning\, policy and handbook development\, employee relations\, job descriptions and on-call HR advisory support.
X-ALT-DESC;FMTTYPE=text/html:<p><span style="color:#FF0000\;"><em><strong>You must register to receive the Zoom link.</strong></em></span></p>\n\n<div>Rolling out an employee engagement survey is not easy. It requires an incredible amount of preparation and project planning.&nbsp\; While employers mean well when opting to solicit feedback from their employees via an engagement survey\, they often miss the mark. We have to remember that addressing employee engagement is not an overnight fix but rather a journey. It&rsquo\;s imperative that engagement assessments and solutioning is done right. If not\, the ramifications can be detrimental\, most notably eroding trust and further negatively impacting engagement. <strong>Sofia Arisheh</strong> will walk you through the importance of employee engagement and the key components in building a framework resulting in actionable steps to successfully roll out engagement initiatives.&nbsp\;</div>\n\n<div>&nbsp\;</div>\n\n<p><strong>JOIN US AND&nbsp\;LEARN:</strong></p>\n\n<ul>\n	<li>Define employee engagement</li>\n	<li>Recognize the importance of employee engagement in the workplace</li>\n	<li>Understand the key steps in end-to-end employee engagement initiatives</li>\n	<li>\n	<div>\n	<div>Identify best practices to action engagement initiatives and build long-term traction</div>\n\n	<div>&nbsp\;</div>\n	</div>\n	</li>\n</ul>\n\n<p><strong>ABOUT OUR SPEAKER:&nbsp\;</strong><br />\n<br />\n<strong>Sofia Arisheh</strong> is the Principal and Lead Consultant of <strong><a href="http://www.upskillconsulting.ca">Upskill Consulting</a></strong>\, a Human Resources (HR) consulting firm offering tailored HR support\, services and solutions to the Fraser Valley and Greater Vancouver regions. She is a senior Human Resource professional\, strategist\, leader\, advocate and educator.&nbsp\; With an in-depth understanding of how to help companies bridge their HR strategy with their business strategy\, her mission is to help businesses think\, act and operate in a people-first culture.&nbsp\;<br />\n<br />\nSofia has 15+ years&rsquo\; experience in Human Resources\, partnering with small\, mid-sized and multi-national companies. She specializes in provincially and federally regulated companies\, in a wide range of industries including education\, engineering\, public practice accounting\, manufacturing\, law and telecommunications. She offers end-to-end HR support with some of her HR services and expertise including training\, performance management\, employee engagement\, change management\, strategic planning\, policy and handbook development\, employee relations\, job descriptions and on-call HR advisory support.</p>\n\n<p>&nbsp\;</p>\n
LOCATION:WEBINAR Zoom Webinar
UID:e.1292.7139
SEQUENCE:3
DTSTAMP:20260422T172735Z
URL:https://business.langleychamber.com/events/details/webinar-employee-engagement-building-an-actionable-framework-7139
END:VEVENT

END:VCALENDAR
