BEGIN:VCALENDAR
VERSION:2.0
PRODID:-//ChamberMaster//Event Calendar 2.0//EN
METHOD:PUBLISH
X-PUBLISHED-TTL:P3D
REFRESH-INTERVAL:P3D
CALSCALE:GREGORIAN
BEGIN:VEVENT
DTSTART:20220428T180000Z
DTEND:20220428T190000Z
X-MICROSOFT-CDO-ALLDAYEVENT:FALSE
SUMMARY:WEBINAR Leading with Authenticity: How to Be a Better Leader in This Labour Market
DESCRIPTION:You must register to receive link.\n\n\n\nAs employers\, we continue to face challenges as we navigate the pandemic and the ever-changing landscape of the world\, economy\, and business. As a result\, taking care of our people has become even more paramount. Now is the time for leaders to step up\, and leading with authenticity\, empathy\, and compassion must be front stage. In this webinar\, Lead Vantage will walk you through the essential leadership skills to lead your organizations and teams with authenticity. The goal is to help you develop leadership skills to attract\, motivate\, retain\, lead\, and manage your people\, translating into stronger business results for you.\nJOIN US AND LEARN:\n\n\n	Define inspirational leadership  \n	Explore trust as an intrinsic motivator  \n	Identify the benefits of deploying strong leadership skills in business  \n	Consider the cost of the absence of effective leadership in an organization  \n	Determine how the utilization of leadership skills and traits can further develop you as a leader  \n	Discuss how a strong team dynamic is critical for success and how it can benefit you \n\n  WHO IS THIS SESSION FOR:\n\n\n	Business Owners\n	Leaders\n	Human Resource\n\n\nABOUT OUR SPEAKERS:\n\nSofia Arisheh is a human resources (HR) and people strategist\, leader\, advocate\, and educator. She draws from her extensive experience in various sectors and industries to help companies build and strengthen their leadership execution\, adopting a people-centric approach to business. Her focus is to help leaders think\, act\, and operate in a people-first culture.  \n\n \n\nWith over 15 years? experience developing robust training strategies and designing and delivering Canada-wide and international corporate leadership training programs for small\, mid-sized and multi-national companies\, she is a sought-after keynote speaker and trainer.  Her interactive training workshops\, delivered to various stakeholders from front-line staff to top executives\, are motivating\, practical\, engaging\, impactful and results-driven.\n\n \n\nSofia helps companies bridge their HR strategy with their business strategy\, always building a stronger focus on people practices that translate into better business results. \n\n\n\nLinda Lucas specializes in helping C-level executives and business owners identify and execute their strategic objectives.  Her focus is building strong teams to create a culture of innovation and initiative\, resulting in operational excellence and increased profitability.  Drawing on over 25 years? experience in strategic\, operational\, and financial management\, she knows that the heart of success\, in any organization\, starts with their people.   \n\n \n\nLinda develops and facilitates leadership programs that emphasizes empowerment\, collaboration\, and trust. She has helped her clients ? from small-and mid-sized companies to national corporations - cultivate a sustainable\, adaptable\, and future-forward organization. \n\n \n\nThe results? Her clients have achieved increased profitability ranging from 30 to 50%. Linda?s key strength is to create congruence between the needs and wants of an organization and its people.
X-ALT-DESC;FMTTYPE=text/html:<p><span style="color:#FF0000\;"><em><strong>You must register to receive&nbsp\;link.</strong></em></span><br />\n<br />\n<span style="font-family:arial\;"><span style="font-size:14px\;"><span style="color:black\;">As employers\, we continue to face challenges as we navigate the pandemic and the ever-changing landscape of the world\, economy\, and business. As a result\, taking care of our people has become even more paramount. Now is the time for leaders to step up\, and leading with authenticity\, empathy\, and compassion must be front stage. In this webinar\, Lead Vantage will walk you through the essential leadership skills to lead your organizations and teams with authenticity. The goal is to help you develop leadership skills to attract\, motivate\, retain\, lead\, and manage your people\, translating into stronger business results for you.</span></span></span></p>\n<strong>JOIN US AND&nbsp\;LEARN:</strong>\n\n<ul>\n	<li style="margin-top:0cm\;margin-bottom:0cm\;background:white\;vertical-align:baseline\;"><span style="font-size:14px\;"><span style="font-family:arial\;"><span style="color:black\;">Define inspirational leadership&#8239\;</span>&nbsp\;</span></span></li>\n	<li style="margin-top:0cm\;margin-bottom:0cm\;background:white\;vertical-align:baseline\;"><span style="font-size:14px\;"><span style="font-family:arial\;"><span style="color:black\;">Explore trust as an intrinsic motivator&#8239\;</span>&nbsp\;</span></span></li>\n	<li style="margin-top:0cm\;margin-bottom:0cm\;background:white\;vertical-align:baseline\;"><span style="font-size:14px\;"><span style="font-family:arial\;"><span style="color:black\;">Identify the benefits of deploying strong leadership skills in business&#8239\;</span>&nbsp\;</span></span></li>\n	<li style="margin-top:0cm\;margin-bottom:0cm\;background:white\;vertical-align:baseline\;"><span style="font-size:14px\;"><span style="font-family:arial\;"><span style="color:black\;">Consider the cost of the absence of effective leadership in an organization&#8239\;</span>&nbsp\;</span></span></li>\n	<li style="margin-top:0cm\;margin-bottom:0cm\;background:white\;vertical-align:baseline\;"><span style="font-size:14px\;"><span style="font-family:arial\;"><span style="color:black\;">Determine how the utilization of leadership skills and traits can further develop you as a leader&#8239\;</span>&nbsp\;</span></span></li>\n	<li style="margin-top:0cm\;margin-bottom:0cm\;background:white\;vertical-align:baseline\;"><span style="font-size:14px\;"><span style="font-family:arial\;"><span style="color:black\;">Discuss how a strong team dynamic is critical for success and how it can benefit you </span></span></span></li>\n</ul>\n&#8203\; <strong>WHO IS THIS SESSION FOR:</strong>\n\n<ul>\n	<li><span style="font-size:14px\;"><span style="font-family:arial\;">Business Owners</span></span></li>\n	<li><span style="font-size:14px\;"><span style="font-family:arial\;">Leaders</span></span></li>\n	<li><span style="font-size:14px\;"><span style="font-family:arial\;">Human Resource</span></span></li>\n</ul>\n\n<p><strong>ABOUT OUR SPEAKERS:</strong><br />\n<span style="font-size:14px\;"><span style="font-family:arial\;"><span style="border:none windowtext 1.0pt\;padding:0cm\;"><span style="color:black\;"><strong>Sofia Arisheh</strong> is a human resources (HR) and people strategist\, leader\, advocate\, and educator. She draws from her extensive experience in various sectors and industries to help companies build and strengthen their leadership execution\, adopting a people-centric approach to business. Her focus is to help leaders think\, act\, and operate in a people-first culture. &nbsp\;</span></span><br />\n&nbsp\;<br />\n<span style="border:none windowtext 1.0pt\;padding:0cm\;"><span style="color:black\;">With over 15 years? experience developing robust training strategies and designing and delivering Canada-wide and international corporate leadership training programs for small\, mid-sized and multi-national companies\, she is a sought-after keynote speaker and trainer. &nbsp\;Her interactive training workshops\, delivered to various stakeholders from front-line staff to top executives\, are motivating\, practical\, engaging\, impactful and results-driven.</span></span><br />\n&nbsp\;<br />\n<span style="border:none windowtext 1.0pt\;padding:0cm\;"><span style="color:black\;">Sofia helps companies bridge their HR strategy with their business strategy\, always building a stronger focus on people practices that translate into better business results.&nbsp\;</span></span><br />\n<br />\n<span style="border:none windowtext 1.0pt\;padding:0cm\;"><span style="color:black\;"><strong>Linda Lucas</strong> specializes in helping C-level executives and business owners identify and execute their strategic objectives. &nbsp\;Her focus is building strong teams to create a culture of innovation and initiative\, resulting in operational excellence and increased profitability. &nbsp\;Drawing on over 25 years? experience in strategic\, operational\, and financial management\, she knows that the heart of success\, in any organization\, starts with their people. &nbsp\;&nbsp\;</span></span><br />\n&nbsp\;<br />\n<span style="border:none windowtext 1.0pt\;padding:0cm\;"><span style="color:black\;">Linda develops and facilitates leadership programs that emphasizes empowerment\, collaboration\, and trust. She has helped her clients ? from small-and mid-sized companies to national corporations - cultivate a sustainable\, adaptable\, and future-forward organization.&nbsp\;</span></span><br />\n&nbsp\;<br />\n<span style="border:none windowtext 1.0pt\;padding:0cm\;"><span style="color:black\;">The results? Her clients have achieved increased profitability ranging from 30 to 50%. Linda?s key strength is to create congruence between the needs and wants of an organization and its people.&nbsp\;</span></span></span></span><br />\n&nbsp\;</p>\n
LOCATION:WEBINAR Zoom
UID:e.1292.7181
SEQUENCE:3
DTSTAMP:20260422T090533Z
URL:https://business.langleychamber.com/events/details/webinar-leading-with-authenticity-how-to-be-a-better-leader-in-this-labour-market-7181
END:VEVENT

END:VCALENDAR
