BEGIN:VCALENDAR
VERSION:2.0
PRODID:-//ChamberMaster//Event Calendar 2.0//EN
METHOD:PUBLISH
X-PUBLISHED-TTL:P3D
REFRESH-INTERVAL:P3D
CALSCALE:GREGORIAN
BEGIN:VEVENT
DTSTART:20211006T220000Z
DTEND:20211006T230000Z
X-MICROSOFT-CDO-ALLDAYEVENT:FALSE
SUMMARY:WEBINAR Managing Work and Anxiety in an Uncertain World
DESCRIPTION:You must register to receive the Zoom link.\n\n\n\nOur world\, and how we manage our work and the people we work with has changed dramatically over the last couple of years.  This workshop will give you practical tools for helping you understand the anxiety that you or your co-workers might be experiencing\, and how to use that information to lead well.\nJOIN US AND LEARN:\n\n\n	Common signs and symptoms of anxiety \n	How anxiety can impact cognition\, and how this affects work \n	Ideas for how to manage anxiety at work \n	Ideas for how to support employees with coping with and managing anxiety\n\n  \n\n\n\n  WHO IS THIS SESSION FOR:\n\n\n	Everyone! Business owners\, managers and leaders in non-profit agencies\n\n\n\n\nABOUT OUR SPEAKERS:\n\n\n\nSerena Graf holds a Master of Counselling Psychology from Trinity Western University\, and is a Registered Clinical Counsellor with the BC Association of Clinical Counsellors. Serena is a trauma-informed counsellor who employs cognitive behavioural therapy and acceptance and commitment therapy techniques in her work with clients with a variety of needs and backgrounds.  She has experience working with motor vehicle accidents and occupational injuries\, specifically with concussion and mild traumatic brain injury. Serena provides individualized counselling support for symptom and stress management\, anxiety\, depression\, insomnia\, relational difficulties\, concussion and post-concussion syndrome\, and acute and chronic pain. She integrates practical strategies for mindfulness\, time management\, and goal setting with evidence-based interventions in order to support clients in building self-efficacy\, self-awareness\, and confidence as they navigate life?s challenges and work towards values-directed action.  \n\n\n\nLisa Catallo is a Registered Clinical Counsellor\, Canadian Certified Counsellor\, and the owner of Panorama Wellness Group.  Lisa is a trauma counsellor who works with women and couples in processing past traumatic events and helping them find a voice and connection within themselves and their relationships.  Lisa is passionate about helping the community of Langley find holistic care that looks at the whole person.  She is proud to be able to offer counselling\, acupuncture and health & nutrition services from the offices of Panorama Wellness Group.\n\n\n\n*You must register to receive recording*
X-ALT-DESC;FMTTYPE=text/html:<p><span style="color:#FF0000\;"><em><strong>You must register to receive the Zoom link.</strong></em></span><br />\n<br />\nOur world\, and how we manage our work and the people we work with has changed dramatically over the last couple of years.&nbsp\; This workshop will give you practical tools for helping you understand the anxiety that you or your co-workers might be experiencing\, and how to use that information to lead well.</p>\n<strong>JOIN US AND&nbsp\;LEARN:</strong>\n\n<ul>\n	<li>Common signs and symptoms of anxiety&nbsp\;</li>\n	<li>How anxiety can impact cognition\, and how this affects work&nbsp\;</li>\n	<li>Ideas for how to manage anxiety at work&nbsp\;</li>\n	<li>Ideas for how to support employees with coping with and managing anxiety</li>\n</ul>\n&nbsp\;&nbsp\;<br />\n<br />\n&#8203\; <strong>WHO IS THIS SESSION FOR:</strong>\n\n<ul>\n	<li>Everyone! Business owners\, managers and leaders in non-profit agencies</li>\n</ul>\n\n<p><br />\n<strong>ABOUT OUR SPEAKERS:<br />\n<br />\nSerena Graf</strong> holds a Master of Counselling Psychology from Trinity Western University\, and is a Registered Clinical Counsellor with the BC Association of Clinical Counsellors. Serena is a trauma-informed counsellor who employs cognitive behavioural therapy and acceptance and commitment therapy techniques in her work with clients with a variety of needs and backgrounds.&nbsp\; She has experience working with motor vehicle accidents and occupational injuries\, specifically with concussion and mild traumatic brain injury. Serena provides individualized counselling support for symptom and stress management\, anxiety\, depression\, insomnia\, relational difficulties\, concussion and post-concussion syndrome\, and acute and chronic pain. She integrates practical strategies for mindfulness\, time management\, and goal setting with evidence-based interventions in order to support clients in building self-efficacy\, self-awareness\, and confidence as they navigate life?s challenges and work towards values-directed action.&nbsp\;&nbsp\;<br />\n<br />\n<strong>Lisa Catallo</strong> is a Registered Clinical Counsellor\, Canadian Certified Counsellor\, and the owner of <strong><a href="https://panoramawellnessgroup.ca/">Panorama Wellness Group</a></strong>.&nbsp\; Lisa is a trauma counsellor who works with women and couples in processing past traumatic events and helping them find a voice and connection within themselves and their relationships.&nbsp\; Lisa is passionate about helping the community of Langley find holistic care that looks at the whole person.&nbsp\; She is proud to be able to offer counselling\, acupuncture and health &amp\; nutrition services from the offices of Panorama Wellness Group.</p>\n\n<p><br />\n<em><span style="color:#FF0000\;">*You must register to receive recording*&nbsp\;</span></em><br />\n<br />\n&nbsp\;</p>\n
LOCATION:WEBINAR Zoom Webinar
UID:e.1292.7145
SEQUENCE:3
DTSTAMP:20260422T173004Z
URL:https://business.langleychamber.com/events/details/webinar-managing-work-and-anxiety-in-an-uncertain-world-7145
END:VEVENT

END:VCALENDAR
