BEGIN:VCALENDAR
VERSION:2.0
PRODID:-//ChamberMaster//Event Calendar 2.0//EN
METHOD:PUBLISH
X-PUBLISHED-TTL:P3D
REFRESH-INTERVAL:P3D
CALSCALE:GREGORIAN
BEGIN:VEVENT
DTSTART:20210914T170000Z
DTEND:20210914T180000Z
X-MICROSOFT-CDO-ALLDAYEVENT:FALSE
SUMMARY:WEBINAR Rethinking Workspace - Key Considerations for Employers
DESCRIPTION:You must register to receive the Zoom link.\n\n\n\nThe presentation will highlight the key considerations for employers as vaccination rates increase\, restrictions are lifted\, and workers return to the workplace.\n\n\n\nJOIN US AND LEARN:\n\n\n	Workplace policies\;\n	Mandated vaccinations\;\n	Refusals to work\;\n\n\n\n\n WHO IS THIS SESSION FOR:\n\nThis workshop is for employers\, human resources specialists\, and workers whose workplace has been impacted by the COVID-19 pandemic.\n\n\n\n\n\nABOUT OUR SPEAKER: \n\nJennifer Loeb is head of the litigation department at Magellan Law Corporation\, and specializes in employment law. Jennifer joined Magellan Law Corporation after practicing for years in busy downtown Vancouver law firms. She has represented clients in Provincial Court\, Supreme Court\, the Court of Appeal and at various tribunals.\n\n \n\n*You must register to receive a recording*
X-ALT-DESC;FMTTYPE=text/html:<p><span style="color:#FF0000\;"><em><strong>You must register to receive the Zoom link.</strong></em></span><br />\n<br />\nThe presentation will highlight the key considerations for employers as vaccination rates increase\, restrictions are lifted\, and workers return to the workplace.</p>\n\n<p><br />\n<u><strong>JOIN US AND&nbsp\;LEARN:</strong></u></p>\n\n<ul>\n	<li>Workplace policies\;</li>\n	<li>Mandated vaccinations\;</li>\n	<li>Refusals to work\;</li>\n</ul>\n\n<p><br />\n<strong><u>&#8203\;WHO IS THIS SESSION FOR:</u></strong><br />\nThis workshop is for employers\, human resources specialists\, and workers whose workplace has been impacted by the COVID-19 pandemic.<br />\n<br />\n<br />\n<u><strong>ABOUT OUR SPEAKER:&nbsp\;</strong></u><br />\n<strong>Jennifer Loeb </strong>is head of the litigation department at Magellan Law Corporation\, and specializes in employment law. Jennifer joined Magellan Law Corporation after practicing for years in busy downtown Vancouver law firms. She has&nbsp\;represented clients in Provincial Court\, Supreme Court\, the Court of Appeal and at various tribunals.<br />\n&nbsp\;</p>\n\n<p><em><span style="color:#FF0000\;">*You must register to receive a recording*</span></em></p>\n
LOCATION:WEBINAR Zoom Webinar
UID:e.1292.7140
SEQUENCE:3
DTSTAMP:20260422T190254Z
URL:https://business.langleychamber.com/events/details/webinar-rethinking-workspace-key-considerations-for-employers-7140
END:VEVENT

END:VCALENDAR
