BEGIN:VCALENDAR
VERSION:2.0
PRODID:-//ChamberMaster//Event Calendar 2.0//EN
METHOD:PUBLISH
X-PUBLISHED-TTL:P3D
REFRESH-INTERVAL:P3D
CALSCALE:GREGORIAN
BEGIN:VEVENT
DTSTART:20211118T220000Z
DTEND:20211118T230000Z
X-MICROSOFT-CDO-ALLDAYEVENT:FALSE
SUMMARY:WEBINAR Sisterhood of Business Women Event
DESCRIPTION:You must register to receive link.\n\n\n\nThe Scotiabank Women Initiative  is a comprehensive program that enables women to take their businesses to the next level through access to capital\, support from senior business leaders and education tailored to their needs.\n\n \nJOIN US AND LEARN:\n\n\n	Financial planning concepts\n	Bridging personal and business\n	Some "Ah Ha's"\n\n  \n\n  WHO IS THIS SESSION FOR:\n\n\n	Women business owners\n	Women who wished they had time to sit down and think about future goals\n	Women who aren't sure if they are on track\n\n\n\n\nABOUT OUR SPEAKER:\n\nTanya Lyn Werk has been a Financial Planner for more than 20 years. She joined Scotiabank Global Wealth Management in order to keep her focus on you and your needs for your future. She regularly leads workshops for many groups in BC including Government\, Social and Employer groups\; both large and small. Her favorite sessions are the Sisterhoods!\n\n\n\n"TL" sits on the Langley Memorial Hospital Foundation Advisory Committee\, is the President for Senior's Business Connect and a past Executive and Coordinator for Valley Women's Association.\n\nShe has multiple designations within our Financial Industry\, a Diploma in Legal Studies and has a straightforward ability to speak to the issues of today's adults.\n\n\n\nShe is a wife\, a mother of two and a grandmother of nine! She was born in North Vancouver and currently\, lives in the Brookswood area of Langley.\n\n\n\nTo book your own financial assessment or for a complimentary group presentation\, please contact Tanya Lyn at: tanyalyn.werk@scotiabank.com or 604.499.3594\n\n\n\n*You must register to receive recording*
X-ALT-DESC;FMTTYPE=text/html:<p><span style="color:#FF0000\;"><em><strong>You must register to receive&nbsp\;link.</strong></em></span><br />\n<br />\nThe Scotiabank Women Initiative&trade\; is a comprehensive program that enables women&nbsp\;to take their businesses to the next level through access to capital\, support from senior business&nbsp\;leaders and education tailored to their needs.<br />\n&nbsp\;</p>\n<strong>JOIN US AND&nbsp\;LEARN:</strong>\n\n<ul>\n	<li>Financial planning concepts</li>\n	<li>Bridging personal and business</li>\n	<li>Some &quot\;Ah Ha&#39\;s&quot\;</li>\n</ul>\n&nbsp\;&nbsp\;<br />\n&#8203\; <strong>WHO IS THIS SESSION FOR:</strong>\n\n<ul>\n	<li>Women business owners</li>\n	<li>Women who wished they had time to sit down and think about future goals</li>\n	<li>Women who aren&rsquo\;t sure if they are on track</li>\n</ul>\n\n<p><br />\n<strong>ABOUT OUR SPEAKER:<br />\nTanya Lyn Werk</strong> has been a Financial Planner for more than 20 years. She joined Scotiabank Global Wealth Management in order to keep her focus on you and your needs for your future. She regularly leads workshops for many groups in BC including Government\, Social and Employer groups\; both large and small. Her favorite sessions are the Sisterhoods!<br />\n<br />\n&ldquo\;TL&rdquo\; sits on the Langley Memorial Hospital Foundation Advisory Committee\, is the President for Senior&rsquo\;s Business Connect and a past Executive and Coordinator for Valley Women&rsquo\;s Association.<br />\nShe has multiple designations within our Financial Industry\, a Diploma in Legal Studies and has a straightforward ability to speak to the issues of today&rsquo\;s adults.<br />\n<br />\nShe is a wife\, a mother of two and a grandmother of nine! She was born in North Vancouver and currently\, lives in the Brookswood area of Langley.<br />\n<br />\nTo book your own financial assessment or for a complimentary group presentation\, please contact Tanya Lyn at: <a href="mailto:tanyalyn.werk@scotiabank.com">tanyalyn.werk@scotiabank.com</a> or<tcxspan tcxhref="https://glcc.3cx.ca/webclient/#/call?phone=6044993594" title="Call  604.499.3594 with 3CX Web Client"> 604.499.3594</tcxspan></p>\n\n<p><br />\n<em><span style="color:#FF0000\;">*You must register to receive recording*&nbsp\;</span></em><br />\n<br />\n&nbsp\;</p>\n
LOCATION:WEBINAR Zoom
UID:e.1292.7152
SEQUENCE:3
DTSTAMP:20260422T155858Z
URL:https://business.langleychamber.com/events/details/webinar-sisterhood-of-business-women-event-7152
END:VEVENT

END:VCALENDAR
